BEGIN:VCALENDAR
VERSION:2.0
PRODID:-//LauguiConcept - ECPv6.10.1.1//NONSGML v1.0//EN
CALSCALE:GREGORIAN
METHOD:PUBLISH
X-ORIGINAL-URL:https://lauguiconcept.fr
X-WR-CALDESC:Évènements pour LauguiConcept
REFRESH-INTERVAL;VALUE=DURATION:PT1H
X-Robots-Tag:noindex
X-PUBLISHED-TTL:PT1H
BEGIN:VTIMEZONE
TZID:Europe/Paris
BEGIN:DAYLIGHT
TZOFFSETFROM:+0100
TZOFFSETTO:+0200
TZNAME:CEST
DTSTART:20250330T010000
END:DAYLIGHT
BEGIN:STANDARD
TZOFFSETFROM:+0200
TZOFFSETTO:+0100
TZNAME:CET
DTSTART:20251026T010000
END:STANDARD
END:VTIMEZONE
BEGIN:VEVENT
DTSTART;VALUE=DATE:20250318
DTEND;VALUE=DATE:20250319
DTSTAMP:20260423T094914
CREATED:20250302T173959Z
LAST-MODIFIED:20250306T175905Z
UID:10000073-1742256000-1742342399@lauguiconcept.fr
SUMMARY:N1
DESCRIPTION:La sécurité en milieu industriel est un enjeu majeur pour les entreprises et les intervenants extérieurs. \nLauguiConcept Formation vous propose une formation Sécurité Niveau 1 dédiée aux personnels devant accéder à des sites industriels\, afin de garantir des interventions sûres et conformes aux réglementations en vigueur. \n\n\nPlus d’informations et programme complet sur cette page.
URL:https://lauguiconcept.fr/formation/securite-des-personnels-des-entreprises-exterieures-niveau-1-n1-3/
LOCATION:Rouen\, Rouen\, 76000\, France
CATEGORIES:Sécurité des personnels des entreprises extérieures (N1 - N2)
ATTACH;FMTTYPE=image/webp:https://lauguiconcept.fr/wp-content/uploads/2025/03/securite-des-entreprises-banniere.webp
ORGANIZER;CN="LauguiConcept Formation Zone Nord":MAILTO:contact@lauguiconcept.fr
END:VEVENT
END:VCALENDAR