BEGIN:VCALENDAR
VERSION:2.0
PRODID:-//LauguiConcept - ECPv6.10.1.1//NONSGML v1.0//EN
CALSCALE:GREGORIAN
METHOD:PUBLISH
X-WR-CALNAME:LauguiConcept
X-ORIGINAL-URL:https://lauguiconcept.fr
X-WR-CALDESC:Évènements pour LauguiConcept
REFRESH-INTERVAL;VALUE=DURATION:PT1H
X-Robots-Tag:noindex
X-PUBLISHED-TTL:PT1H
BEGIN:VTIMEZONE
TZID:Europe/Paris
BEGIN:DAYLIGHT
TZOFFSETFROM:+0100
TZOFFSETTO:+0200
TZNAME:CEST
DTSTART:20250330T010000
END:DAYLIGHT
BEGIN:STANDARD
TZOFFSETFROM:+0200
TZOFFSETTO:+0100
TZNAME:CET
DTSTART:20251026T010000
END:STANDARD
END:VTIMEZONE
BEGIN:VEVENT
DTSTART;TZID=Europe/Paris:20250324T083000
DTEND;TZID=Europe/Paris:20250324T120000
DTSTAMP:20260423T063425
CREATED:20250301T174449Z
LAST-MODIFIED:20250305T125923Z
UID:10000063-1742805000-1742817600@lauguiconcept.fr
SUMMARY:PGFI - Extincteurs
DESCRIPTION:La formation “Premiers Gestes Face à un Incendie” (PFGI) – Extincteurs de Lauguiconcept est conçue pour former les individus avec les compétences essentielles pour réagir efficacement lors d’un début d’incendie. \nCouvrant les techniques fondamentales de lutte contre les incendies et notamment la manipulation d’extincteurs\, cette formation pratique offre un apprentissage crucial pour identifier\, prévenir et contrôler les incendies\, assurant ainsi la sécurité personnelle et celle d’autrui. \nIdéale pour les professionnels et le grand public\, cette formation est un investissement essentiel dans la sécurité et la préparation aux urgences. \nPlus d’informations sur la formation. \nContactez-nous.
URL:https://lauguiconcept.fr/formation/premiers-gestes-face-a-un-incendie-pgfi-9/
LOCATION:Centre d’entrainement à la sécurité LauguiConcept – Zone Sud (Lacq)\, RD 817\, LACQ\, France\, 64170
CATEGORIES:Incendie
ATTACH;FMTTYPE=image/jpeg:https://lauguiconcept.fr/wp-content/uploads/2024/05/formation-extincteur-bandeau.jpg
ORGANIZER;CN="LauguiConcept Zone Sud":MAILTO:contact@lauguiconcept.fr
END:VEVENT
BEGIN:VEVENT
DTSTART;TZID=Europe/Paris:20250324T083000
DTEND;TZID=Europe/Paris:20250324T120000
DTSTAMP:20260423T063425
CREATED:20250302T175419Z
LAST-MODIFIED:20250305T125938Z
UID:10000089-1742805000-1742817600@lauguiconcept.fr
SUMMARY:PGFI - Extincteurs
DESCRIPTION:La formation “Premiers Gestes Face à un Incendie” (PFGI) – Extincteurs de Lauguiconcept est conçue pour former les individus avec les compétences essentielles pour réagir efficacement lors d’un début d’incendie. \nCouvrant les techniques fondamentales de lutte contre les incendies et notamment la manipulation d’extincteurs\, cette formation pratique offre un apprentissage crucial pour identifier\, prévenir et contrôler les incendies\, assurant ainsi la sécurité personnelle et celle d’autrui. \nIdéale pour les professionnels et le grand public\, cette formation est un investissement essentiel dans la sécurité et la préparation aux urgences. \nPlus d’informations sur la formation. \nContactez-nous.
URL:https://lauguiconcept.fr/formation/premiers-gestes-face-a-un-incendie-pgfi-17/
LOCATION:Centre d’entrainement à la sécurité LauguiConcept – Zone Nord\, ZIP du Havre\, 5459 route industrielle\, Saint-Vigor d’Ymonville\, 76430
CATEGORIES:Incendie
ATTACH;FMTTYPE=image/jpeg:https://lauguiconcept.fr/wp-content/uploads/2024/05/formation-extincteur-bandeau.jpg
ORGANIZER;CN="LauguiConcept Formation Zone Nord":MAILTO:contact@lauguiconcept.fr
END:VEVENT
BEGIN:VEVENT
DTSTART;TZID=Europe/Paris:20250324T133000
DTEND;TZID=Europe/Paris:20250324T170000
DTSTAMP:20260423T063425
CREATED:20250301T174733Z
LAST-MODIFIED:20250305T125946Z
UID:10000067-1742823000-1742835600@lauguiconcept.fr
SUMMARY:MAC ARI
DESCRIPTION:La formation “Maintien et Actualisation des Compétences au Port de l’Appareil Respiratoire Isolant (MAC ARI)” est conçue pour les professionnels ayant déjà une expérience avec les appareils respiratoires isolants. \nCe cours vise à rafraîchir et mettre à jour les compétences essentielles pour l’utilisation sûre et efficace de l’équipement A.R.I dans des environnements à risque. \nIdéal pour les secouristes\, pompiers\, et professionnels de la sécurité\, ce programme combine des séances théoriques avec des exercices pratiques\, notamment en feu réel\, assurant une préparation optimale pour faire face aux situations d’urgence. \n\n\n\n\n\n\n\n\n  \nPlus d’informations sur la formation. \nContactez-nous.
URL:https://lauguiconcept.fr/formation/port-de-lappareil-respiratoire-isolant-maintien-et-actualisation-des-competences-mac-2/
LOCATION:Centre d’entrainement à la sécurité LauguiConcept – Zone Sud (Lacq)\, RD 817\, LACQ\, France\, 64170
CATEGORIES:Incendie
ATTACH;FMTTYPE=image/jpeg:https://lauguiconcept.fr/wp-content/uploads/2024/07/bandeau-ARI.jpg
ORGANIZER;CN="LauguiConcept Zone Sud":MAILTO:contact@lauguiconcept.fr
END:VEVENT
BEGIN:VEVENT
DTSTART;TZID=Europe/Paris:20250324T133000
DTEND;TZID=Europe/Paris:20250324T170000
DTSTAMP:20260423T063425
CREATED:20250302T175620Z
LAST-MODIFIED:20250305T125955Z
UID:10000093-1742823000-1742835600@lauguiconcept.fr
SUMMARY:MAC ARI
DESCRIPTION:La formation “Maintien et Actualisation des Compétences au Port de l’Appareil Respiratoire Isolant (MAC ARI)” est conçue pour les professionnels ayant déjà une expérience avec les appareils respiratoires isolants. \nCe cours vise à rafraîchir et mettre à jour les compétences essentielles pour l’utilisation sûre et efficace de l’équipement A.R.I dans des environnements à risque. \nIdéal pour les secouristes\, pompiers\, et professionnels de la sécurité\, ce programme combine des séances théoriques avec des exercices pratiques\, notamment en feu réel\, assurant une préparation optimale pour faire face aux situations d’urgence. \n\n\n\n\n\n\n\n\n  \nPlus d’informations sur la formation. \nContactez-nous.
URL:https://lauguiconcept.fr/formation/port-de-lappareil-respiratoire-isolant-maintien-et-actualisation-des-competences-mac-13/
LOCATION:Centre d’entrainement à la sécurité LauguiConcept – Zone Nord\, ZIP du Havre\, 5459 route industrielle\, Saint-Vigor d’Ymonville\, 76430
CATEGORIES:Incendie
ATTACH;FMTTYPE=image/jpeg:https://lauguiconcept.fr/wp-content/uploads/2024/07/bandeau-ARI.jpg
ORGANIZER;CN="LauguiConcept Formation Zone Nord":MAILTO:contact@lauguiconcept.fr
END:VEVENT
END:VCALENDAR