BEGIN:VCALENDAR
VERSION:2.0
PRODID:-//LauguiConcept - ECPv6.10.1.1//NONSGML v1.0//EN
CALSCALE:GREGORIAN
METHOD:PUBLISH
X-WR-CALNAME:LauguiConcept
X-ORIGINAL-URL:https://lauguiconcept.fr
X-WR-CALDESC:Évènements pour LauguiConcept
REFRESH-INTERVAL;VALUE=DURATION:PT1H
X-Robots-Tag:noindex
X-PUBLISHED-TTL:PT1H
BEGIN:VTIMEZONE
TZID:Europe/Paris
BEGIN:DAYLIGHT
TZOFFSETFROM:+0100
TZOFFSETTO:+0200
TZNAME:CEST
DTSTART:20250330T010000
END:DAYLIGHT
BEGIN:STANDARD
TZOFFSETFROM:+0200
TZOFFSETTO:+0100
TZNAME:CET
DTSTART:20251026T010000
END:STANDARD
END:VTIMEZONE
BEGIN:VEVENT
DTSTART;VALUE=DATE:20251201
DTEND;VALUE=DATE:20251206
DTSTAMP:20260421T082557
CREATED:20250812T115124Z
LAST-MODIFIED:20251029T145355Z
UID:10000380-1764547200-1764979199@lauguiconcept.fr
SUMMARY:SSIAP 1 - Formation initiale (FI) - Semaine 1
DESCRIPTION:Formation Initiale SSIAP 1 – Agent de sécurité incendie\nCette formation réglementaire prépare à exercer la fonction d’agent de sécurité incendie et d’assistance à personnes dans les ERP et IGH.En 67 heures (hors examen)\, elle allie enseignements théoriques et mises en situation pratiques : prévention incendie\, rondes de sécurité\, gestion des évacuations\, utilisation des moyens de secours et coordination avec les services d’urgence. \n📍 Lieu : Centre de formation LauguiConcept – Rouen (accessible depuis Le Havre et Dieppe)📅 Fréquence : Selon besoins et obligations réglementaires👥 Public : Toute personne souhaitant devenir agent de sécurité incendie (prérequis secourisme et aptitude médicale) \n  \nCentre agréé à Rouen\, LauguiConcept Formation propose des formations SSIAP 1\, 2\, 3\, recyclages et remises à niveau à Rouen et pour toute la Normandie\, Le Havre et Dieppe. \nPlus d’informations sur nos formations SSIAP.
URL:https://lauguiconcept.fr/formation/ssiap-1-formation-initiale-fi/
LOCATION:Rouen\, Rouen\, 76000\, France
CATEGORIES:Incendie,SSIAP
ATTACH;FMTTYPE=image/png:https://lauguiconcept.fr/wp-content/uploads/2025/08/SSIAP.png
ORGANIZER;CN="LauguiConcept Formation Zone Nord":MAILTO:contact@lauguiconcept.fr
END:VEVENT
BEGIN:VEVENT
DTSTART;VALUE=DATE:20251201
DTEND;VALUE=DATE:20251206
DTSTAMP:20260421T082557
CREATED:20250812T115334Z
LAST-MODIFIED:20250812T122345Z
UID:10000382-1764547200-1764979199@lauguiconcept.fr
SUMMARY:SSIAP 3 - Remise à niveau
DESCRIPTION:Remise à niveau SSIAP 3 – Chef de service de sécurité incendie\nCette formation est destinée aux titulaires du SSIAP 3 dont le recyclage n’a pas été effectué dans les délais réglementaires.En 21 heures\, elle permet de remettre à jour l’ensemble des connaissances techniques\, réglementaires et managériales nécessaires à la direction d’un service de sécurité incendie. Le programme inclut des rappels sur la réglementation ERP/IGH\, la gestion d’équipe\, la maintenance des systèmes de sécurité incendie et la coordination avec les secours. \n📍 Lieu : Centre de formation LauguiConcept – Rouen (accessible depuis Le Havre et Dieppe)📅 Fréquence : Obligatoire si le recyclage triennal n’a pas été réalisé dans les délais👥 Public : Chefs de service SSIAP 3 en renouvellement hors délais \nCentre agréé à Rouen\, LauguiConcept Formation propose des formations SSIAP 1\, 2\, 3\, recyclages et remises à niveau à Rouen et pour toute la Normandie\, Le Havre et Dieppe. \nPlus d’informations sur nos formations SSIAP.
URL:https://lauguiconcept.fr/formation/ssiap-3-remise-a-niveau/
LOCATION:Rouen\, Rouen\, 76000\, France
CATEGORIES:Incendie,SSIAP
ATTACH;FMTTYPE=image/png:https://lauguiconcept.fr/wp-content/uploads/2025/08/SSIAP.png
ORGANIZER;CN="LauguiConcept Formation Zone Nord":MAILTO:contact@lauguiconcept.fr
END:VEVENT
BEGIN:VEVENT
DTSTART;VALUE=DATE:20251202
DTEND;VALUE=DATE:20251203
DTSTAMP:20260421T082557
CREATED:20250722T080745Z
LAST-MODIFIED:20251029T144828Z
UID:10000285-1764633600-1764719999@lauguiconcept.fr
SUMMARY:AIPR
DESCRIPTION:Dans le cadre des interventions à proximité des réseaux\, la formation Autorisation d’Intervention à Proximité des Réseaux (AIPR) est essentielle pour garantir la sécurité des opérateurs et la préservation des infrastructures. \nNotre programme de formation AIPR est conçu pour équiper les professionnels des travaux publics\, les conducteurs d’engins\, et tout personnel encadrant\, avec les compétences nécessaires pour identifier et éviter les risques liés aux réseaux aériens\, souterrains ou subaquatiques. \nCette formation réglementaire est non seulement une obligation pour les entreprises du BTP depuis janvier 2018\, mais également un gage de compétence qui contribue à la prévention des accidents et des interruptions de service. \nContactez-nous pour plus d’informations ou pour vous inscrire.
URL:https://lauguiconcept.fr/formation/aipr-20/
LOCATION:Rouen\, Rouen\, 76000\, France
CATEGORIES:Autorisation d’Intervention à Proximité des Réseaux (AIPR)
ATTACH;FMTTYPE=image/jpeg:https://lauguiconcept.fr/wp-content/uploads/2024/05/formation-AIPR-bandeau.jpg
ORGANIZER;CN="LauguiConcept Formation Zone Nord":MAILTO:contact@lauguiconcept.fr
END:VEVENT
END:VCALENDAR