BEGIN:VCALENDAR
VERSION:2.0
PRODID:-//LauguiConcept - ECPv6.10.1.1//NONSGML v1.0//EN
CALSCALE:GREGORIAN
METHOD:PUBLISH
X-WR-CALNAME:LauguiConcept
X-ORIGINAL-URL:https://lauguiconcept.fr
X-WR-CALDESC:Évènements pour LauguiConcept
REFRESH-INTERVAL;VALUE=DURATION:PT1H
X-Robots-Tag:noindex
X-PUBLISHED-TTL:PT1H
BEGIN:VTIMEZONE
TZID:Europe/Paris
BEGIN:DAYLIGHT
TZOFFSETFROM:+0100
TZOFFSETTO:+0200
TZNAME:CEST
DTSTART:20250330T010000
END:DAYLIGHT
BEGIN:STANDARD
TZOFFSETFROM:+0200
TZOFFSETTO:+0100
TZNAME:CET
DTSTART:20251026T010000
END:STANDARD
END:VTIMEZONE
BEGIN:VEVENT
DTSTART;VALUE=DATE:20251208
DTEND;VALUE=DATE:20251209
DTSTAMP:20260421T115021
CREATED:20250722T080758Z
LAST-MODIFIED:20251029T144835Z
UID:10000280-1765152000-1765238399@lauguiconcept.fr
SUMMARY:AIPR
DESCRIPTION:Dans le cadre des interventions à proximité des réseaux\, la formation Autorisation d’Intervention à Proximité des Réseaux (AIPR) est essentielle pour garantir la sécurité des opérateurs et la préservation des infrastructures. \nNotre programme de formation AIPR est conçu pour équiper les professionnels des travaux publics\, les conducteurs d’engins\, et tout personnel encadrant\, avec les compétences nécessaires pour identifier et éviter les risques liés aux réseaux aériens\, souterrains ou subaquatiques. \nCette formation réglementaire est non seulement une obligation pour les entreprises du BTP depuis janvier 2018\, mais également un gage de compétence qui contribue à la prévention des accidents et des interruptions de service. \nContactez-nous pour plus d’informations ou pour vous inscrire.
URL:https://lauguiconcept.fr/formation/aipr-21/
LOCATION:Rouen\, Rouen\, 76000\, France
CATEGORIES:Autorisation d’Intervention à Proximité des Réseaux (AIPR)
ATTACH;FMTTYPE=image/jpeg:https://lauguiconcept.fr/wp-content/uploads/2024/05/formation-AIPR-bandeau.jpg
ORGANIZER;CN="LauguiConcept Formation Zone Nord":MAILTO:contact@lauguiconcept.fr
END:VEVENT
BEGIN:VEVENT
DTSTART;VALUE=DATE:20251208
DTEND;VALUE=DATE:20251213
DTSTAMP:20260421T115021
CREATED:20251029T145437Z
LAST-MODIFIED:20251029T145437Z
UID:10000386-1765152000-1765583999@lauguiconcept.fr
SUMMARY:SSIAP 1 - Formation initiale (FI) - Semaine 2
DESCRIPTION:Formation Initiale SSIAP 1 – Agent de sécurité incendie\nCette formation réglementaire prépare à exercer la fonction d’agent de sécurité incendie et d’assistance à personnes dans les ERP et IGH.En 67 heures (hors examen)\, elle allie enseignements théoriques et mises en situation pratiques : prévention incendie\, rondes de sécurité\, gestion des évacuations\, utilisation des moyens de secours et coordination avec les services d’urgence. \n📍 Lieu : Centre de formation LauguiConcept – Rouen (accessible depuis Le Havre et Dieppe)📅 Fréquence : Selon besoins et obligations réglementaires👥 Public : Toute personne souhaitant devenir agent de sécurité incendie (prérequis secourisme et aptitude médicale) \n  \nCentre agréé à Rouen\, LauguiConcept Formation propose des formations SSIAP 1\, 2\, 3\, recyclages et remises à niveau à Rouen et pour toute la Normandie\, Le Havre et Dieppe. \nPlus d’informations sur nos formations SSIAP.
URL:https://lauguiconcept.fr/formation/ssiap-1-formation-initiale-fi-semaine-2/
LOCATION:Rouen\, Rouen\, 76000\, France
CATEGORIES:Incendie,SSIAP
ATTACH;FMTTYPE=image/png:https://lauguiconcept.fr/wp-content/uploads/2025/08/SSIAP.png
ORGANIZER;CN="LauguiConcept Formation Zone Nord":MAILTO:contact@lauguiconcept.fr
END:VEVENT
BEGIN:VEVENT
DTSTART;VALUE=DATE:20251208
DTEND;VALUE=DATE:20251209
DTSTAMP:20260421T115021
CREATED:20250731T122955Z
LAST-MODIFIED:20250731T122955Z
UID:10000310-1765152000-1765238399@lauguiconcept.fr
SUMMARY:MAC SST
DESCRIPTION:La formation “Maintien et Actualisation des Compétences du Sauveteur Secouriste du Travail (MAC SST)” est essentiel pour les secouristes du travail cherchant à rafraîchir et actualiser leurs compétences en secourisme. \nCe programme offre une révision approfondie des techniques de premiers secours et des procédures d’urgence\, assurant que les participants restent à jour avec les pratiques actuelles et efficaces en matière de sécurité au travail. \nIdéale pour les professionnels certifiés SST\, cette formation renforce l’aptitude à intervenir promptement et efficacement en cas d’accident ou de situation d’urgence sur le lieu de travail. \n  \nVoir le programme de la formation. \n\nInformations et inscription.
URL:https://lauguiconcept.fr/formation/mac-sst-46/
LOCATION:Dieppe\, France
CATEGORIES:Formation Sauveteur secouriste du travail
ATTACH;FMTTYPE=image/jpeg:https://lauguiconcept.fr/wp-content/uploads/2024/05/formation-sst-bandeau.jpg
ORGANIZER;CN="LauguiConcept Formation Zone Nord":MAILTO:contact@lauguiconcept.fr
END:VEVENT
BEGIN:VEVENT
DTSTART;VALUE=DATE:20251208
DTEND;VALUE=DATE:20251210
DTSTAMP:20260421T115021
CREATED:20250808T062826Z
LAST-MODIFIED:20250808T062826Z
UID:10000364-1765152000-1765324799@lauguiconcept.fr
SUMMARY:FI SST
DESCRIPTION:La formation “Initiale Sauveteurs Secouristes du Travail (SST)” proposée par LauguiConcept est conçue pour transmettre aux employés des compétences essentielles en premiers secours sur le lieu de travail. \nCe cours complet offre une formation pratique et théorique sur les techniques de secourisme et de réaction aux urgences médicales en milieu professionnel. \nAdaptée à tout employé désirant devenir un acteur clé de la prévention et de la sécurité au travail\, cette formation fournit les outils nécessaires pour intervenir efficacement lors de situations d’urgence\, contribuant ainsi à un environnement de travail plus sûr. \n\n\n\n\n  \nVoir le programme de la formation. \n\nInformations et inscription.
URL:https://lauguiconcept.fr/formation/fi-sst-26/
LOCATION:Centre d’entrainement à la sécurité LauguiConcept – Zone Sud (Lacq)\, RD 817\, LACQ\, France\, 64170
CATEGORIES:Formation Sauveteur secouriste du travail
ATTACH;FMTTYPE=image/jpeg:https://lauguiconcept.fr/wp-content/uploads/2024/05/formation-sst-bandeau.jpg
ORGANIZER;CN="LauguiConcept Zone Sud":MAILTO:contact@lauguiconcept.fr
END:VEVENT
BEGIN:VEVENT
DTSTART;TZID=Europe/Paris:20251208T083000
DTEND;TZID=Europe/Paris:20251208T120000
DTSTAMP:20260421T115021
CREATED:20250621T141802Z
LAST-MODIFIED:20250621T141802Z
UID:10000240-1765182600-1765195200@lauguiconcept.fr
SUMMARY:PGFI - Extincteurs
DESCRIPTION:La formation “Premiers Gestes Face à un Incendie” (PFGI) – Extincteurs de Lauguiconcept est conçue pour former les individus avec les compétences essentielles pour réagir efficacement lors d’un début d’incendie. \nCouvrant les techniques fondamentales de lutte contre les incendies et notamment la manipulation d’extincteurs\, cette formation pratique offre un apprentissage crucial pour identifier\, prévenir et contrôler les incendies\, assurant ainsi la sécurité personnelle et celle d’autrui. \nIdéale pour les professionnels et le grand public\, cette formation est un investissement essentiel dans la sécurité et la préparation aux urgences. \nPlus d’informations sur la formation. \nContactez-nous.
URL:https://lauguiconcept.fr/formation/pgfi-extincteurs-14/
LOCATION:Centre d’entrainement à la sécurité LauguiConcept – Zone Nord\, ZIP du Havre\, 5459 route industrielle\, Saint-Vigor d’Ymonville\, 76430
CATEGORIES:Incendie
ATTACH;FMTTYPE=image/jpeg:https://lauguiconcept.fr/wp-content/uploads/2024/05/formation-extincteur-bandeau.jpg
ORGANIZER;CN="LauguiConcept Formation Zone Nord":MAILTO:contact@lauguiconcept.fr
END:VEVENT
BEGIN:VEVENT
DTSTART;TZID=Europe/Paris:20251208T133000
DTEND;TZID=Europe/Paris:20251208T170000
DTSTAMP:20260421T115021
CREATED:20250621T141944Z
LAST-MODIFIED:20250621T141944Z
UID:10000247-1765200600-1765213200@lauguiconcept.fr
SUMMARY:MAC ARI
DESCRIPTION:La formation “Maintien et Actualisation des Compétences au Port de l’Appareil Respiratoire Isolant (MAC ARI)” est conçue pour les professionnels ayant déjà une expérience avec les appareils respiratoires isolants. \nCe cours vise à rafraîchir et mettre à jour les compétences essentielles pour l’utilisation sûre et efficace de l’équipement A.R.I dans des environnements à risque. \nIdéal pour les secouristes\, pompiers\, et professionnels de la sécurité\, ce programme combine des séances théoriques avec des exercices pratiques\, notamment en feu réel\, assurant une préparation optimale pour faire face aux situations d’urgence. \n\n\n\n\n\n\n\n\n  \nPlus d’informations sur la formation. \nContactez-nous.
URL:https://lauguiconcept.fr/formation/mac-ari-14/
LOCATION:Centre d’entrainement à la sécurité LauguiConcept – Zone Nord\, ZIP du Havre\, 5459 route industrielle\, Saint-Vigor d’Ymonville\, 76430
CATEGORIES:Incendie
ATTACH;FMTTYPE=image/jpeg:https://lauguiconcept.fr/wp-content/uploads/2024/07/bandeau-ARI.jpg
ORGANIZER;CN="LauguiConcept Formation Zone Nord":MAILTO:contact@lauguiconcept.fr
END:VEVENT
END:VCALENDAR