BEGIN:VCALENDAR
VERSION:2.0
PRODID:-//LauguiConcept - ECPv6.10.1.1//NONSGML v1.0//EN
CALSCALE:GREGORIAN
METHOD:PUBLISH
X-ORIGINAL-URL:https://lauguiconcept.fr
X-WR-CALDESC:Évènements pour LauguiConcept
REFRESH-INTERVAL;VALUE=DURATION:PT1H
X-Robots-Tag:noindex
X-PUBLISHED-TTL:PT1H
BEGIN:VTIMEZONE
TZID:Europe/Paris
BEGIN:DAYLIGHT
TZOFFSETFROM:+0100
TZOFFSETTO:+0200
TZNAME:CEST
DTSTART:20260329T010000
END:DAYLIGHT
BEGIN:STANDARD
TZOFFSETFROM:+0200
TZOFFSETTO:+0100
TZNAME:CET
DTSTART:20261025T010000
END:STANDARD
END:VTIMEZONE
BEGIN:VEVENT
DTSTART;VALUE=DATE:20260105
DTEND;VALUE=DATE:20260107
DTSTAMP:20260421T132141
CREATED:20251120T094235Z
LAST-MODIFIED:20251120T094235Z
UID:10000456-1767571200-1767743999@lauguiconcept.fr
SUMMARY:FI SST
DESCRIPTION:La formation “Initiale Sauveteurs Secouristes du Travail (SST)” proposée par LauguiConcept est conçue pour transmettre aux employés des compétences essentielles en premiers secours sur le lieu de travail. \nCe cours complet offre une formation pratique et théorique sur les techniques de secourisme et de réaction aux urgences médicales en milieu professionnel. \nAdaptée à tout employé désirant devenir un acteur clé de la prévention et de la sécurité au travail\, cette formation fournit les outils nécessaires pour intervenir efficacement lors de situations d’urgence\, contribuant ainsi à un environnement de travail plus sûr. \n\n\n\n\n  \nVoir le programme de la formation. \n\nInformations et inscription.
URL:https://lauguiconcept.fr/formation/fi-sst-27/
LOCATION:Rouen\, Rouen\, 76000\, France
CATEGORIES:Formation Sauveteur secouriste du travail
ATTACH;FMTTYPE=image/jpeg:https://lauguiconcept.fr/wp-content/uploads/2024/05/formation-sst-bandeau.jpg
ORGANIZER;CN="LauguiConcept Formation Zone Nord":MAILTO:contact@lauguiconcept.fr
END:VEVENT
BEGIN:VEVENT
DTSTART;VALUE=DATE:20260106
DTEND;VALUE=DATE:20260108
DTSTAMP:20260421T132141
CREATED:20251120T141238Z
LAST-MODIFIED:20251120T141238Z
UID:10000620-1767657600-1767830399@lauguiconcept.fr
SUMMARY:FI SST
DESCRIPTION:La formation “Initiale Sauveteurs Secouristes du Travail (SST)” proposée par LauguiConcept est conçue pour transmettre aux employés des compétences essentielles en premiers secours sur le lieu de travail. \nCe cours complet offre une formation pratique et théorique sur les techniques de secourisme et de réaction aux urgences médicales en milieu professionnel. \nAdaptée à tout employé désirant devenir un acteur clé de la prévention et de la sécurité au travail\, cette formation fournit les outils nécessaires pour intervenir efficacement lors de situations d’urgence\, contribuant ainsi à un environnement de travail plus sûr. \n\n\n\n\n  \nVoir le programme de la formation. \n\nInformations et inscription.
URL:https://lauguiconcept.fr/formation/fi-sst-48/
LOCATION:Centre d’entrainement à la sécurité LauguiConcept – Zone Sud (Lacq)\, RD 817\, LACQ\, France\, 64170
CATEGORIES:Formation Sauveteur secouriste du travail
ATTACH;FMTTYPE=image/jpeg:https://lauguiconcept.fr/wp-content/uploads/2024/05/formation-sst-bandeau.jpg
ORGANIZER;CN="LauguiConcept Zone Sud":MAILTO:contact@lauguiconcept.fr
END:VEVENT
BEGIN:VEVENT
DTSTART;TZID=Europe/Paris:20260106T080000
DTEND;TZID=Europe/Paris:20260106T120000
DTSTAMP:20260421T132141
CREATED:20251120T143743Z
LAST-MODIFIED:20251120T143743Z
UID:10000650-1767686400-1767700800@lauguiconcept.fr
SUMMARY:ATEX Niveau 0 (certifiée ISM par l’INERIS)
DESCRIPTION:Cette formation ATEX Niveau 0 (certifiée ISM par l’INERIS) permet de sensibiliser les professionnels aux risques liés aux atmosphères explosives. En 4 heures\, les participants acquièrent les bases essentielles pour intervenir en sécurité en zone ATEX. \n👉 Pour connaître le programme complet et les conditions de certification\, consultez la fiche détaillée de la formation ATEX Niveau 0
URL:https://lauguiconcept.fr/formation/atex-niveau-0-certifiee-ism-par-lineris/
LOCATION:Centre d’entrainement à la sécurité LauguiConcept – Zone Sud (Lacq)\, RD 817\, LACQ\, France\, 64170
CATEGORIES:ATEX - SIM
ATTACH;FMTTYPE=image/jpeg:https://lauguiconcept.fr/wp-content/uploads/2025/01/industry-525119_1920.jpg
ORGANIZER;CN="LauguiConcept Zone Sud":MAILTO:contact@lauguiconcept.fr
END:VEVENT
END:VCALENDAR