BEGIN:VCALENDAR
VERSION:2.0
PRODID:-//LauguiConcept - ECPv6.10.1.1//NONSGML v1.0//EN
CALSCALE:GREGORIAN
METHOD:PUBLISH
X-ORIGINAL-URL:https://lauguiconcept.fr
X-WR-CALDESC:Évènements pour LauguiConcept
REFRESH-INTERVAL;VALUE=DURATION:PT1H
X-Robots-Tag:noindex
X-PUBLISHED-TTL:PT1H
BEGIN:VTIMEZONE
TZID:Europe/Paris
BEGIN:DAYLIGHT
TZOFFSETFROM:+0100
TZOFFSETTO:+0200
TZNAME:CEST
DTSTART:20260329T010000
END:DAYLIGHT
BEGIN:STANDARD
TZOFFSETFROM:+0200
TZOFFSETTO:+0100
TZNAME:CET
DTSTART:20261025T010000
END:STANDARD
END:VTIMEZONE
BEGIN:VEVENT
DTSTART;VALUE=DATE:20260112
DTEND;VALUE=DATE:20260117
DTSTAMP:20260421T063726
CREATED:20251031T140223Z
LAST-MODIFIED:20251031T140223Z
UID:10000388-1768176000-1768607999@lauguiconcept.fr
SUMMARY:SSIAP 1 - Formation initiale (FI) - Semaine 1
DESCRIPTION:Formation Initiale SSIAP 1 – Agent de sécurité incendie\nCette formation réglementaire prépare à exercer la fonction d’agent de sécurité incendie et d’assistance à personnes dans les ERP et IGH.En 67 heures (hors examen)\, elle allie enseignements théoriques et mises en situation pratiques : prévention incendie\, rondes de sécurité\, gestion des évacuations\, utilisation des moyens de secours et coordination avec les services d’urgence. \n📍 Lieu : Centre de formation LauguiConcept – Rouen (accessible depuis Le Havre et Dieppe)📅 Fréquence : Selon besoins et obligations réglementaires👥 Public : Toute personne souhaitant devenir agent de sécurité incendie (prérequis secourisme et aptitude médicale) \n  \nCentre agréé à Rouen\, LauguiConcept Formation propose des formations SSIAP 1\, 2\, 3\, recyclages et remises à niveau à Rouen et pour toute la Normandie\, Le Havre et Dieppe. \nPlus d’informations sur nos formations SSIAP.
URL:https://lauguiconcept.fr/formation/ssiap-1-formation-initiale-fi-semaine-1/
LOCATION:Rouen\, Rouen\, 76000\, France
CATEGORIES:Incendie,SSIAP
ATTACH;FMTTYPE=image/png:https://lauguiconcept.fr/wp-content/uploads/2025/08/SSIAP.png
ORGANIZER;CN="LauguiConcept Formation Zone Nord":MAILTO:contact@lauguiconcept.fr
END:VEVENT
BEGIN:VEVENT
DTSTART;VALUE=DATE:20260115
DTEND;VALUE=DATE:20260117
DTSTAMP:20260421T063726
CREATED:20251120T095134Z
LAST-MODIFIED:20251120T095134Z
UID:10000486-1768435200-1768607999@lauguiconcept.fr
SUMMARY:HO BO BSBE Manœuvre
DESCRIPTION:Habilitation électrique non-électricien H0-B0-BS-BE Manœuvre\n\n\nour tout professionnel non-électricien amené à effectuer des opérations simples (remplacement\, raccordement\, manœuvre) sur des installations électriques basse tension\, en toute sécurité.
URL:https://lauguiconcept.fr/formation/ho-bo-bsbe-manoeuvre-23/
LOCATION:Rouen\, Rouen\, 76000\, France
CATEGORIES:Risque électrique
ATTACH;FMTTYPE=image/jpeg:https://lauguiconcept.fr/wp-content/uploads/2024/05/formation-hobo-bandeau-1.jpg
ORGANIZER;CN="LauguiConcept Formation Zone Nord":MAILTO:contact@lauguiconcept.fr
END:VEVENT
END:VCALENDAR