BEGIN:VCALENDAR
VERSION:2.0
PRODID:-//LauguiConcept - ECPv6.10.1.1//NONSGML v1.0//EN
CALSCALE:GREGORIAN
METHOD:PUBLISH
X-WR-CALNAME:LauguiConcept
X-ORIGINAL-URL:https://lauguiconcept.fr
X-WR-CALDESC:Évènements pour LauguiConcept
REFRESH-INTERVAL;VALUE=DURATION:PT1H
X-Robots-Tag:noindex
X-PUBLISHED-TTL:PT1H
BEGIN:VTIMEZONE
TZID:Europe/Paris
BEGIN:DAYLIGHT
TZOFFSETFROM:+0100
TZOFFSETTO:+0200
TZNAME:CEST
DTSTART:20260329T010000
END:DAYLIGHT
BEGIN:STANDARD
TZOFFSETFROM:+0200
TZOFFSETTO:+0100
TZNAME:CET
DTSTART:20261025T010000
END:STANDARD
END:VTIMEZONE
BEGIN:VEVENT
DTSTART;VALUE=DATE:20260130
DTEND;VALUE=DATE:20260207
DTSTAMP:20260421T025526
CREATED:20251031T140800Z
LAST-MODIFIED:20251207T163101Z
UID:10000393-1769731200-1770422399@lauguiconcept.fr
SUMMARY:SSIAP 2 - Formation initiale (FI) - Semaine 1
DESCRIPTION:Formation Initiale SSIAP 2 – Chef d’équipe sécurité incendie\nLa formation initiale SSIAP 2 a pour objectif de vous permettre d’pour encadrer une équipe d’agents SSIAP 1 et de coordonner les interventions. \n📍 Lieu : Centre de formation LauguiConcept – Rouen (accessible depuis Le Havre et Dieppe)📅 Fréquence : Selon besoins et obligations réglementaires👥 Public : Toute personne souhaitant devenir agent de sécurité incendie (prérequis secourisme et aptitude médicale) \n  \nCentre agréé à Rouen\, LauguiConcept Formation propose des formations SSIAP 1\, 2\, 3\, recyclages et remises à niveau à Rouen et pour toute la Normandie\, Le Havre et Dieppe. \nPlus d’informations sur nos formations SSIAP.
URL:https://lauguiconcept.fr/formation/ssiap-2-formation-initiale-fi-semaine-1/
LOCATION:Rouen\, Rouen\, 76000\, France
CATEGORIES:Incendie,SSIAP
ATTACH;FMTTYPE=image/png:https://lauguiconcept.fr/wp-content/uploads/2025/08/SSIAP.png
ORGANIZER;CN="LauguiConcept Formation Zone Nord":MAILTO:contact@lauguiconcept.fr
END:VEVENT
END:VCALENDAR