BEGIN:VCALENDAR
VERSION:2.0
PRODID:-//LauguiConcept - ECPv6.10.1.1//NONSGML v1.0//EN
CALSCALE:GREGORIAN
METHOD:PUBLISH
X-WR-CALNAME:LauguiConcept
X-ORIGINAL-URL:https://lauguiconcept.fr
X-WR-CALDESC:Évènements pour LauguiConcept
REFRESH-INTERVAL;VALUE=DURATION:PT1H
X-Robots-Tag:noindex
X-PUBLISHED-TTL:PT1H
BEGIN:VTIMEZONE
TZID:Europe/Paris
BEGIN:DAYLIGHT
TZOFFSETFROM:+0100
TZOFFSETTO:+0200
TZNAME:CEST
DTSTART:20260329T010000
END:DAYLIGHT
BEGIN:STANDARD
TZOFFSETFROM:+0200
TZOFFSETTO:+0100
TZNAME:CET
DTSTART:20261025T010000
END:STANDARD
END:VTIMEZONE
BEGIN:VEVENT
DTSTART;VALUE=DATE:20260409
DTEND;VALUE=DATE:20260411
DTSTAMP:20260422T151938
CREATED:20251031T141236Z
LAST-MODIFIED:20251031T141236Z
UID:10000401-1775692800-1775865599@lauguiconcept.fr
SUMMARY:SSIAP 2 - Recyclage
DESCRIPTION:Recyclage SSIAP 2 – Chef d’équipe de sécurité incendie\nCette formation réglementaire permet aux titulaires du SSIAP 2 de renouveler leurs compétences en management d’équipe\, prévention incendie et gestion opérationnelle.En 14 heures\, le programme combine mises à jour réglementaires\, rappels techniques et exercices pratiques (gestion d’une équipe en situation d’urgence\, coordination avec les secours\, organisation d’évacuation). \n📍 Lieu : Centre de formation LauguiConcept – Rouen (accessible depuis Le Havre et Dieppe)📅 Fréquence : Tous les 3 ans👥 Public : Chefs d’équipe SSIAP 2 en activité ou en renouvellement \n  \nCentre agréé à Rouen\, LauguiConcept Formation propose des formations SSIAP 1\, 2\, 3\, recyclages et remises à niveau à Rouen et pour toute la Normandie\, Le Havre et Dieppe. \nPlus d’informations sur nos formations SSIAP.
URL:https://lauguiconcept.fr/formation/ssiap-2-recyclage-5/
LOCATION:Rouen\, Rouen\, 76000\, France
CATEGORIES:Incendie,SSIAP
ATTACH;FMTTYPE=image/png:https://lauguiconcept.fr/wp-content/uploads/2025/08/SSIAP.png
ORGANIZER;CN="LauguiConcept Formation Zone Nord":MAILTO:contact@lauguiconcept.fr
END:VEVENT
END:VCALENDAR