BEGIN:VCALENDAR
VERSION:2.0
PRODID:-//LauguiConcept - ECPv6.10.1.1//NONSGML v1.0//EN
CALSCALE:GREGORIAN
METHOD:PUBLISH
X-WR-CALNAME:LauguiConcept
X-ORIGINAL-URL:https://lauguiconcept.fr
X-WR-CALDESC:Évènements pour LauguiConcept
REFRESH-INTERVAL;VALUE=DURATION:PT1H
X-Robots-Tag:noindex
X-PUBLISHED-TTL:PT1H
BEGIN:VTIMEZONE
TZID:Europe/Paris
BEGIN:DAYLIGHT
TZOFFSETFROM:+0100
TZOFFSETTO:+0200
TZNAME:CEST
DTSTART:20260329T010000
END:DAYLIGHT
BEGIN:STANDARD
TZOFFSETFROM:+0200
TZOFFSETTO:+0100
TZNAME:CET
DTSTART:20261025T010000
END:STANDARD
END:VTIMEZONE
BEGIN:VEVENT
DTSTART;VALUE=DATE:20260421
DTEND;VALUE=DATE:20260424
DTSTAMP:20260421T010551
CREATED:20251120T142254Z
LAST-MODIFIED:20251120T142725Z
UID:10000633-1776729600-1776988799@lauguiconcept.fr
SUMMARY:Formation initiale des équipiers de seconde intervention (ESI)
DESCRIPTION:La formation Équipier de Seconde Intervention (E.S.I) permet d’acquérir les compétences nécessaires pour intervenir efficacement en cas d’incendie majeur au sein de l’entreprise. Elle s’adresse aux professionnels amenés à jouer un rôle renforcé dans la sécurité incendie. \n👉 Pour découvrir le programme complet et les objectifs pédagogiques\, consultez la fiche détaillée de la formation FI ESI
URL:https://lauguiconcept.fr/formation/formation-initiale-des-equipiers-de-seconde-intervention-esi-2/
LOCATION:Centre d’entrainement à la sécurité LauguiConcept – Zone Sud (Lacq)\, RD 817\, LACQ\, France\, 64170
CATEGORIES:Incendie
ATTACH;FMTTYPE=image/webp:https://lauguiconcept.fr/wp-content/uploads/2025/05/3.webp
ORGANIZER;CN="LauguiConcept Zone Sud":MAILTO:contact@lauguiconcept.fr
END:VEVENT
END:VCALENDAR