BEGIN:VCALENDAR
VERSION:2.0
PRODID:-//LauguiConcept - ECPv6.10.1.1//NONSGML v1.0//EN
CALSCALE:GREGORIAN
METHOD:PUBLISH
X-WR-CALNAME:LauguiConcept
X-ORIGINAL-URL:https://lauguiconcept.fr
X-WR-CALDESC:Évènements pour LauguiConcept
REFRESH-INTERVAL;VALUE=DURATION:PT1H
X-Robots-Tag:noindex
X-PUBLISHED-TTL:PT1H
BEGIN:VTIMEZONE
TZID:Europe/Paris
BEGIN:DAYLIGHT
TZOFFSETFROM:+0100
TZOFFSETTO:+0200
TZNAME:CEST
DTSTART:20260329T010000
END:DAYLIGHT
BEGIN:STANDARD
TZOFFSETFROM:+0200
TZOFFSETTO:+0100
TZNAME:CET
DTSTART:20261025T010000
END:STANDARD
END:VTIMEZONE
BEGIN:VEVENT
DTSTART;VALUE=DATE:20260421
DTEND;VALUE=DATE:20260424
DTSTAMP:20260423T225530
CREATED:20251120T142254Z
LAST-MODIFIED:20251120T142725Z
UID:10000633-1776729600-1776988799@lauguiconcept.fr
SUMMARY:Formation initiale des équipiers de seconde intervention (ESI)
DESCRIPTION:La formation Équipier de Seconde Intervention (E.S.I) permet d’acquérir les compétences nécessaires pour intervenir efficacement en cas d’incendie majeur au sein de l’entreprise. Elle s’adresse aux professionnels amenés à jouer un rôle renforcé dans la sécurité incendie. \n👉 Pour découvrir le programme complet et les objectifs pédagogiques\, consultez la fiche détaillée de la formation FI ESI
URL:https://lauguiconcept.fr/formation/formation-initiale-des-equipiers-de-seconde-intervention-esi-2/
LOCATION:Centre d’entrainement à la sécurité LauguiConcept – Zone Sud (Lacq)\, RD 817\, LACQ\, France\, 64170
CATEGORIES:Incendie
ATTACH;FMTTYPE=image/webp:https://lauguiconcept.fr/wp-content/uploads/2025/05/3.webp
ORGANIZER;CN="LauguiConcept Zone Sud":MAILTO:contact@lauguiconcept.fr
END:VEVENT
BEGIN:VEVENT
DTSTART;VALUE=DATE:20260424
DTEND;VALUE=DATE:20260425
DTSTAMP:20260423T225530
CREATED:20251120T095341Z
LAST-MODIFIED:20260322T144329Z
UID:10000492-1776988800-1777075199@lauguiconcept.fr
SUMMARY:AIPR
DESCRIPTION:Dans le cadre des interventions à proximité des réseaux\, la formation Autorisation d’Intervention à Proximité des Réseaux (AIPR) est essentielle pour garantir la sécurité des opérateurs et la préservation des infrastructures. \nNotre programme de formation AIPR est conçu pour équiper les professionnels des travaux publics\, les conducteurs d’engins\, et tout personnel encadrant\, avec les compétences nécessaires pour identifier et éviter les risques liés aux réseaux aériens\, souterrains ou subaquatiques. \nCette formation réglementaire est non seulement une obligation pour les entreprises du BTP depuis janvier 2018\, mais également un gage de compétence qui contribue à la prévention des accidents et des interruptions de service. \nContactez-nous pour plus d’informations ou pour vous inscrire.
URL:https://lauguiconcept.fr/formation/aipr-31/
LOCATION:Rouen\, Rouen\, 76000\, France
CATEGORIES:Autorisation d’Intervention à Proximité des Réseaux (AIPR)
ATTACH;FMTTYPE=image/jpeg:https://lauguiconcept.fr/wp-content/uploads/2024/05/formation-AIPR-bandeau.jpg
ORGANIZER;CN="LauguiConcept Formation Zone Nord":MAILTO:contact@lauguiconcept.fr
END:VEVENT
BEGIN:VEVENT
DTSTART;VALUE=DATE:20260427
DTEND;VALUE=DATE:20260501
DTSTAMP:20260423T225530
CREATED:20251031T141330Z
LAST-MODIFIED:20251207T163556Z
UID:10000403-1777248000-1777593599@lauguiconcept.fr
SUMMARY:SSIAP 2 - Formation initiale (FI) - Semaine 1
DESCRIPTION:Formation Initiale SSIAP 2 – Chef d’équipe sécurité incendie\nLa formation initiale SSIAP 2 a pour objectif de vous permettre d’pour encadrer une équipe d’agents SSIAP 1 et de coordonner les interventions. \n📍 Lieu : Centre de formation LauguiConcept – Rouen (accessible depuis Le Havre et Dieppe)📅 Fréquence : Selon besoins et obligations réglementaires👥 Public : Toute personne souhaitant devenir agent de sécurité incendie (prérequis secourisme et aptitude médicale) \n  \nCentre agréé à Rouen\, LauguiConcept Formation propose des formations SSIAP 1\, 2\, 3\, recyclages et remises à niveau à Rouen et pour toute la Normandie\, Le Havre et Dieppe. \nPlus d’informations sur nos formations SSIAP.
URL:https://lauguiconcept.fr/formation/ssiap-2-formation-initiale-fi-semaine-1-2/
LOCATION:Rouen\, Rouen\, 76000\, France
CATEGORIES:Incendie,SSIAP
ATTACH;FMTTYPE=image/png:https://lauguiconcept.fr/wp-content/uploads/2025/08/SSIAP.png
ORGANIZER;CN="LauguiConcept Formation Zone Nord":MAILTO:contact@lauguiconcept.fr
END:VEVENT
BEGIN:VEVENT
DTSTART;VALUE=DATE:20260427
DTEND;VALUE=DATE:20260429
DTSTAMP:20260423T225530
CREATED:20251124T122740Z
LAST-MODIFIED:20251124T122740Z
UID:10000666-1777248000-1777420799@lauguiconcept.fr
SUMMARY:CATEC - Formation initiale
DESCRIPTION:Le CATEC® (Certificat d’Aptitude à Travailler en Espaces Confinés) est une certification essentielle pour intervenir en toute sécurité dans les milieux confinés. Cette formation permet d’acquérir les bons réflexes de prévention et de secours\, en conformité avec la réglementation. \nParticipez à cette session pour renforcer vos compétences terrain et assurer votre sécurité et celle de votre équipe.
URL:https://lauguiconcept.fr/formation/catec-formation-initiale-2/
LOCATION:Centre d’entrainement à la sécurité LauguiConcept – Zone Nord\, ZIP du Havre\, 5459 route industrielle\, Saint-Vigor d’Ymonville\, 76430
ATTACH;FMTTYPE=image/png:https://lauguiconcept.fr/wp-content/uploads/2025/11/CATEC.png
ORGANIZER;CN="LauguiConcept Formation Zone Nord":MAILTO:contact@lauguiconcept.fr
END:VEVENT
BEGIN:VEVENT
DTSTART;TZID=Europe/Paris:20260427T083000
DTEND;TZID=Europe/Paris:20260427T120000
DTSTAMP:20260423T225530
CREATED:20251120T140437Z
LAST-MODIFIED:20251120T140437Z
UID:10000583-1777278600-1777291200@lauguiconcept.fr
SUMMARY:PGFI - Extincteurs
DESCRIPTION:La formation “Premiers Gestes Face à un Incendie” (PFGI) – Extincteurs de Lauguiconcept est conçue pour former les individus avec les compétences essentielles pour réagir efficacement lors d’un début d’incendie. \nCouvrant les techniques fondamentales de lutte contre les incendies et notamment la manipulation d’extincteurs\, cette formation pratique offre un apprentissage crucial pour identifier\, prévenir et contrôler les incendies\, assurant ainsi la sécurité personnelle et celle d’autrui. \nIdéale pour les professionnels et le grand public\, cette formation est un investissement essentiel dans la sécurité et la préparation aux urgences. \nPlus d’informations sur la formation. \nContactez-nous.
URL:https://lauguiconcept.fr/formation/pgfi-extincteurs-34/
LOCATION:Centre d’entrainement à la sécurité LauguiConcept – Zone Sud (Lacq)\, RD 817\, LACQ\, France\, 64170
CATEGORIES:Incendie
ATTACH;FMTTYPE=image/jpeg:https://lauguiconcept.fr/wp-content/uploads/2024/05/formation-extincteur-bandeau.jpg
ORGANIZER;CN="LauguiConcept Zone Sud":MAILTO:contact@lauguiconcept.fr
END:VEVENT
BEGIN:VEVENT
DTSTART;TZID=Europe/Paris:20260427T133000
DTEND;TZID=Europe/Paris:20260427T170000
DTSTAMP:20260423T225530
CREATED:20251120T140957Z
LAST-MODIFIED:20251120T140957Z
UID:10000610-1777296600-1777309200@lauguiconcept.fr
SUMMARY:MAC ARI
DESCRIPTION:La formation “Maintien et Actualisation des Compétences au Port de l’Appareil Respiratoire Isolant (MAC ARI)” est conçue pour les professionnels ayant déjà une expérience avec les appareils respiratoires isolants. \nCe cours vise à rafraîchir et mettre à jour les compétences essentielles pour l’utilisation sûre et efficace de l’équipement A.R.I dans des environnements à risque. \nIdéal pour les secouristes\, pompiers\, et professionnels de la sécurité\, ce programme combine des séances théoriques avec des exercices pratiques\, notamment en feu réel\, assurant une préparation optimale pour faire face aux situations d’urgence. \n\n\n\n\n\n\n\n\n  \nPlus d’informations sur la formation. \nContactez-nous.
URL:https://lauguiconcept.fr/formation/mac-ari-34/
LOCATION:Centre d’entrainement à la sécurité LauguiConcept – Zone Sud (Lacq)\, RD 817\, LACQ\, France\, 64170
CATEGORIES:Incendie
ATTACH;FMTTYPE=image/jpeg:https://lauguiconcept.fr/wp-content/uploads/2024/07/bandeau-ARI.jpg
ORGANIZER;CN="LauguiConcept Zone Sud":MAILTO:contact@lauguiconcept.fr
END:VEVENT
BEGIN:VEVENT
DTSTART;TZID=Europe/Paris:20260428T080000
DTEND;TZID=Europe/Paris:20260428T120000
DTSTAMP:20260423T225530
CREATED:20251120T143851Z
LAST-MODIFIED:20251120T143851Z
UID:10000656-1777363200-1777377600@lauguiconcept.fr
SUMMARY:ATEX Niveau 0 (certifiée ISM par l’INERIS)
DESCRIPTION:Cette formation ATEX Niveau 0 (certifiée ISM par l’INERIS) permet de sensibiliser les professionnels aux risques liés aux atmosphères explosives. En 4 heures\, les participants acquièrent les bases essentielles pour intervenir en sécurité en zone ATEX. \n👉 Pour connaître le programme complet et les conditions de certification\, consultez la fiche détaillée de la formation ATEX Niveau 0
URL:https://lauguiconcept.fr/formation/atex-niveau-0-certifiee-ism-par-lineris-7/
LOCATION:Centre d’entrainement à la sécurité LauguiConcept – Zone Sud (Lacq)\, RD 817\, LACQ\, France\, 64170
CATEGORIES:ATEX - SIM
ATTACH;FMTTYPE=image/jpeg:https://lauguiconcept.fr/wp-content/uploads/2025/01/industry-525119_1920.jpg
ORGANIZER;CN="LauguiConcept Zone Sud":MAILTO:contact@lauguiconcept.fr
END:VEVENT
END:VCALENDAR